BEGIN:VCALENDAR
VERSION:2.0
PRODID:-//Iglesia Bautista Horeb - ECPv6.15.20//NONSGML v1.0//EN
CALSCALE:GREGORIAN
METHOD:PUBLISH
X-WR-CALNAME:Iglesia Bautista Horeb
X-ORIGINAL-URL:https://horeb.mx
X-WR-CALDESC:Eventos para Iglesia Bautista Horeb
REFRESH-INTERVAL;VALUE=DURATION:PT1H
X-Robots-Tag:noindex
X-PUBLISHED-TTL:PT1H
BEGIN:VTIMEZONE
TZID:America/Mexico_City
BEGIN:STANDARD
TZOFFSETFROM:-0600
TZOFFSETTO:-0600
TZNAME:CST
DTSTART:20230101T000000
END:STANDARD
END:VTIMEZONE
BEGIN:VEVENT
DTSTART;TZID=America/Mexico_City:20240420T165000
DTEND;TZID=America/Mexico_City:20240420T183000
DTSTAMP:20260419T122738
CREATED:20240415T161247Z
LAST-MODIFIED:20240415T161247Z
UID:20303-1713631800-1713637800@horeb.mx
SUMMARY:Diplomado Matrimonios Horeb-20/abr/2024-4:50 p.m.
DESCRIPTION:
URL:https://horeb.mx/eventos/diplomado-matrimonios-horeb-20-abr-2024-450-p-m/
CATEGORIES:Actividades Horeb,Matrimonios
ATTACH;FMTTYPE=image/png:https://horeb.mx/wp-content/uploads/2023/01/matrim_reunion_mensual-min.png
END:VEVENT
BEGIN:VEVENT
DTSTART;TZID=America/Mexico_City:20240427T183000
DTEND;TZID=America/Mexico_City:20240427T193000
DTSTAMP:20260419T122738
CREATED:20240318T154206Z
LAST-MODIFIED:20240424T130702Z
UID:20008-1714242600-1714246200@horeb.mx
SUMMARY:Reunión +30-27/abr/2024-6:30 pm
DESCRIPTION:
URL:https://horeb.mx/eventos/reunion-30-23-mar-2024-630-pm/
CATEGORIES:+30,Actividades Horeb
ATTACH;FMTTYPE=image/png:https://horeb.mx/wp-content/uploads/2023/01/30reunion_mensual-min.png
END:VEVENT
BEGIN:VEVENT
DTSTART;TZID=America/Mexico_City:20240430T170000
DTEND;TZID=America/Mexico_City:20240430T180000
DTSTAMP:20260419T122738
CREATED:20240325T214500Z
LAST-MODIFIED:20240429T132103Z
UID:20060-1714496400-1714500000@horeb.mx
SUMMARY:Fuego Nuevo-30/abr/2024-5:00 p.m.
DESCRIPTION:
URL:https://horeb.mx/eventos/fuego-nuevo-26-03-2024-500-p-m/
CATEGORIES:Actividades Horeb,Fuego Nuevo
ATTACH;FMTTYPE=image/jpeg:https://horeb.mx/wp-content/uploads/2020/09/tit_fuego_nuevo.jpg
END:VEVENT
END:VCALENDAR