BEGIN:VCALENDAR
VERSION:2.0
PRODID:-//Iglesia Bautista Horeb - ECPv6.15.20//NONSGML v1.0//EN
CALSCALE:GREGORIAN
METHOD:PUBLISH
X-ORIGINAL-URL:https://horeb.mx
X-WR-CALDESC:Eventos para Iglesia Bautista Horeb
REFRESH-INTERVAL;VALUE=DURATION:PT1H
X-Robots-Tag:noindex
X-PUBLISHED-TTL:PT1H
BEGIN:VTIMEZONE
TZID:America/Mexico_City
BEGIN:STANDARD
TZOFFSETFROM:-0600
TZOFFSETTO:-0600
TZNAME:CST
DTSTART:20230101T000000
END:STANDARD
END:VTIMEZONE
BEGIN:VEVENT
DTSTART;TZID=America/Mexico_City:20240711T200000
DTEND;TZID=America/Mexico_City:20240711T210000
DTSTAMP:20260419T083103
CREATED:20240213T034104Z
LAST-MODIFIED:20240708T210121Z
UID:19577-1720728000-1720731600@horeb.mx
SUMMARY:Sin Cubrebocas-11/jul/2024-8:00 pm
DESCRIPTION:
URL:https://horeb.mx/eventos/sin-cubrebocas-15-feb-2024-800-pm/
CATEGORIES:Actividades Horeb
ATTACH;FMTTYPE=image/png:https://horeb.mx/wp-content/uploads/2023/01/sin_cubre-min.png
END:VEVENT
END:VCALENDAR